BEGIN:VCALENDAR
VERSION:2.0
PRODID:-//BSGames - ECPv6.15.20//NONSGML v1.0//EN
CALSCALE:GREGORIAN
METHOD:PUBLISH
X-WR-CALNAME:BSGames
X-ORIGINAL-URL:https://bsgames.ca
X-WR-CALDESC:Events for BSGames
REFRESH-INTERVAL;VALUE=DURATION:PT1H
X-Robots-Tag:noindex
X-PUBLISHED-TTL:PT1H
BEGIN:VTIMEZONE
TZID:America/Toronto
BEGIN:DAYLIGHT
TZOFFSETFROM:-0500
TZOFFSETTO:-0400
TZNAME:EDT
DTSTART:20250309T070000
END:DAYLIGHT
BEGIN:STANDARD
TZOFFSETFROM:-0400
TZOFFSETTO:-0500
TZNAME:EST
DTSTART:20251102T060000
END:STANDARD
BEGIN:DAYLIGHT
TZOFFSETFROM:-0500
TZOFFSETTO:-0400
TZNAME:EDT
DTSTART:20260308T070000
END:DAYLIGHT
BEGIN:STANDARD
TZOFFSETFROM:-0400
TZOFFSETTO:-0500
TZNAME:EST
DTSTART:20261101T060000
END:STANDARD
BEGIN:DAYLIGHT
TZOFFSETFROM:-0500
TZOFFSETTO:-0400
TZNAME:EDT
DTSTART:20270314T070000
END:DAYLIGHT
BEGIN:STANDARD
TZOFFSETFROM:-0400
TZOFFSETTO:-0500
TZNAME:EST
DTSTART:20271107T060000
END:STANDARD
END:VTIMEZONE
BEGIN:VEVENT
DTSTART;TZID=America/Toronto:20260330T190000
DTEND;TZID=America/Toronto:20260330T223000
DTSTAMP:20260419T101637
CREATED:20260207T163741Z
LAST-MODIFIED:20260214T180524Z
UID:300522-1774897200-1774909800@bsgames.ca
SUMMARY:Designer Night at The Bard and Bear
DESCRIPTION:Meet some games designers at a board game café in Hamilton! Scott will be there along with other game designers\, to talk about the experience of designing board games. After the talk\, there will be an opportunity to try out games that these designers have created\, or are in the process of creating.Come and see how ideas become games\, and be part of the process by playtesting some of the games in progress.
URL:https://bsgames.ca/event/designer-night-at-the-bard-and-bear/
LOCATION:The Bard and Bear\, 237 James St. North\, Hamilton\, ON\, Canada
END:VEVENT
END:VCALENDAR