BEGIN:VCALENDAR
VERSION:2.0
PRODID:-//BSGames - ECPv6.15.20//NONSGML v1.0//EN
CALSCALE:GREGORIAN
METHOD:PUBLISH
X-WR-CALNAME:BSGames
X-ORIGINAL-URL:https://bsgames.ca
X-WR-CALDESC:Events for BSGames
REFRESH-INTERVAL;VALUE=DURATION:PT1H
X-Robots-Tag:noindex
X-PUBLISHED-TTL:PT1H
BEGIN:VTIMEZONE
TZID:America/Toronto
BEGIN:DAYLIGHT
TZOFFSETFROM:-0500
TZOFFSETTO:-0400
TZNAME:EDT
DTSTART:20250309T070000
END:DAYLIGHT
BEGIN:STANDARD
TZOFFSETFROM:-0400
TZOFFSETTO:-0500
TZNAME:EST
DTSTART:20251102T060000
END:STANDARD
BEGIN:DAYLIGHT
TZOFFSETFROM:-0500
TZOFFSETTO:-0400
TZNAME:EDT
DTSTART:20260308T070000
END:DAYLIGHT
BEGIN:STANDARD
TZOFFSETFROM:-0400
TZOFFSETTO:-0500
TZNAME:EST
DTSTART:20261101T060000
END:STANDARD
BEGIN:DAYLIGHT
TZOFFSETFROM:-0500
TZOFFSETTO:-0400
TZNAME:EDT
DTSTART:20270314T070000
END:DAYLIGHT
BEGIN:STANDARD
TZOFFSETFROM:-0400
TZOFFSETTO:-0500
TZNAME:EST
DTSTART:20271107T060000
END:STANDARD
END:VTIMEZONE
BEGIN:VEVENT
DTSTART;TZID=America/Toronto:20260401T073000
DTEND;TZID=America/Toronto:20260401T230000
DTSTAMP:20260419T102736
CREATED:20260401T222002Z
LAST-MODIFIED:20260401T224340Z
UID:300758-1775028600-1775084400@bsgames.ca
SUMMARY:Join Us for Weekly Game Playtesting at Dicey Business
DESCRIPTION:Most Wednesdays we will be at Dicey Business. If you find us\, come say hello and play test some games. If we are not showing\, we will do our best to post here to inform before the event. There is a $7.00 cover charge at Dicey Business on Wednesdays that includes their entire library of games for you to play. They also sell games\, or you can bring your own games. If you are a Dungeon Master\, you do not pay the cover charge when playing Role Playing Games. Yay DMs! This specific event is to play test our games in development. Help us make better games. If you are a designer\, you can bring your game. If time permits\, we can play test that. Come early\, stay late. They do not have a set amount of time for the cover charge. You can play for as long as you like. Enjoy the restaurant with wraps\, burgers\, fries\, great desserts\, and shakes. They are fully licensed; drink responsibly. Hope to see you there.
URL:https://bsgames.ca/event/join-us-for-weekly-game-playtesting-at-dicey-business/
LOCATION:ON
ATTACH;FMTTYPE=image/png:https://bsgames.ca/wp-content/uploads/2026/04/bsgames-69cd96659e2c4.png
END:VEVENT
END:VCALENDAR