BEGIN:VCALENDAR
VERSION:2.0
PRODID:-//BSGames - ECPv6.15.20//NONSGML v1.0//EN
CALSCALE:GREGORIAN
METHOD:PUBLISH
X-WR-CALNAME:BSGames
X-ORIGINAL-URL:https://bsgames.ca
X-WR-CALDESC:Events for BSGames
REFRESH-INTERVAL;VALUE=DURATION:PT1H
X-Robots-Tag:noindex
X-PUBLISHED-TTL:PT1H
BEGIN:VTIMEZONE
TZID:America/Toronto
BEGIN:DAYLIGHT
TZOFFSETFROM:-0500
TZOFFSETTO:-0400
TZNAME:EDT
DTSTART:20250309T070000
END:DAYLIGHT
BEGIN:STANDARD
TZOFFSETFROM:-0400
TZOFFSETTO:-0500
TZNAME:EST
DTSTART:20251102T060000
END:STANDARD
BEGIN:DAYLIGHT
TZOFFSETFROM:-0500
TZOFFSETTO:-0400
TZNAME:EDT
DTSTART:20260308T070000
END:DAYLIGHT
BEGIN:STANDARD
TZOFFSETFROM:-0400
TZOFFSETTO:-0500
TZNAME:EST
DTSTART:20261101T060000
END:STANDARD
BEGIN:DAYLIGHT
TZOFFSETFROM:-0500
TZOFFSETTO:-0400
TZNAME:EDT
DTSTART:20270314T070000
END:DAYLIGHT
BEGIN:STANDARD
TZOFFSETFROM:-0400
TZOFFSETTO:-0500
TZNAME:EST
DTSTART:20271107T060000
END:STANDARD
END:VTIMEZONE
BEGIN:VEVENT
DTSTART;TZID=America/Toronto:20260626T140000
DTEND;TZID=America/Toronto:20260628T180000
DTSTAMP:20260421T074024
CREATED:20260419T195319Z
LAST-MODIFIED:20260419T195323Z
UID:300859-1782482400-1782669600@bsgames.ca
SUMMARY:Protospiel North! (Summer Session)
DESCRIPTION:Protospiel North is our favourite event of the twice a year! We meet so many awesome people there and get to playtest our game ideas and try so many other great games by other designers.But\, it’s not just for designers… oh\, no.. anyone can go and help shape the future of tabletop gaming by playing these prototypes and offering feedback to the games’ designers. And if you’re just going to play\, and not showcase a game for testing\, then the weekend pass is so much cheaper! Where else can you get a weekend pass to a fun event full of cool people for $12? Huh? Where? Answer in the comments if you know of a better deal!Oh… you want to go for free? Well\, we may have you covered for that. We have 2 free weekend playtester passes to give away! Keep checking out Instagram and Facebook for when we announce the free pass giveaway. You’re only eligible if you’re a member of our BSClub\, so you might want to go sign up for that\, if you haven’t already.  \n\n\n\nWe’re excited to be going\, and we’re excited to see you there!
URL:https://bsgames.ca/event/protospiel-north-summer-session/
LOCATION:Royal Canadian Legion Branch 266-46\, 3591 Dundas St. W\, Toronto\, Ontario
END:VEVENT
END:VCALENDAR