BEGIN:VCALENDAR
VERSION:2.0
PRODID:-//BSGames - ECPv6.15.20//NONSGML v1.0//EN
CALSCALE:GREGORIAN
METHOD:PUBLISH
X-WR-CALNAME:BSGames
X-ORIGINAL-URL:https://bsgames.ca
X-WR-CALDESC:Events for BSGames
REFRESH-INTERVAL;VALUE=DURATION:PT1H
X-Robots-Tag:noindex
X-PUBLISHED-TTL:PT1H
BEGIN:VTIMEZONE
TZID:America/Toronto
BEGIN:DAYLIGHT
TZOFFSETFROM:-0500
TZOFFSETTO:-0400
TZNAME:EDT
DTSTART:20250309T070000
END:DAYLIGHT
BEGIN:STANDARD
TZOFFSETFROM:-0400
TZOFFSETTO:-0500
TZNAME:EST
DTSTART:20251102T060000
END:STANDARD
BEGIN:DAYLIGHT
TZOFFSETFROM:-0500
TZOFFSETTO:-0400
TZNAME:EDT
DTSTART:20260308T070000
END:DAYLIGHT
BEGIN:STANDARD
TZOFFSETFROM:-0400
TZOFFSETTO:-0500
TZNAME:EST
DTSTART:20261101T060000
END:STANDARD
BEGIN:DAYLIGHT
TZOFFSETFROM:-0500
TZOFFSETTO:-0400
TZNAME:EDT
DTSTART:20270314T070000
END:DAYLIGHT
BEGIN:STANDARD
TZOFFSETFROM:-0400
TZOFFSETTO:-0500
TZNAME:EST
DTSTART:20271107T060000
END:STANDARD
END:VTIMEZONE
BEGIN:VEVENT
DTSTART;TZID=America/Toronto:20260501T090000
DTEND;TZID=America/Toronto:20260502T230000
DTSTAMP:20260419T120958
CREATED:20260406T170737Z
LAST-MODIFIED:20260406T170739Z
UID:300773-1777626000-1777762800@bsgames.ca
SUMMARY:Claringcon
DESCRIPTION:It’s back and so are we! We are heading to Claringcon in Clarington for two full days of gaming! All day Friday May 1st\, right up until 11:30pm\, and then back for Saturday\, May\, until 11pm!There will be special guests\, a Bring ‘n’ Buy market\, Play to Win tables\, vendors of all kinds of cool stuff\, demos of games running throughout the day… and gaming!Come to the Garnet B. Rickard Recreational Centre in Bowmanville and check it out!
URL:https://bsgames.ca/event/claringcon-2/
LOCATION:Garnet B. Rickard Recreational Complex\, 2440 Durham Regional Hwy 2\, Bowmanville\, ON\, Canada
ATTACH;FMTTYPE=image/png:https://bsgames.ca/wp-content/uploads/2026/04/Purple.png
END:VEVENT
END:VCALENDAR