BEGIN:VCALENDAR
VERSION:2.0
PRODID:-//BSGames - ECPv6.15.20//NONSGML v1.0//EN
CALSCALE:GREGORIAN
METHOD:PUBLISH
X-WR-CALNAME:BSGames
X-ORIGINAL-URL:https://bsgames.ca
X-WR-CALDESC:Events for BSGames
REFRESH-INTERVAL;VALUE=DURATION:PT1H
X-Robots-Tag:noindex
X-PUBLISHED-TTL:PT1H
BEGIN:VTIMEZONE
TZID:America/Toronto
BEGIN:DAYLIGHT
TZOFFSETFROM:-0500
TZOFFSETTO:-0400
TZNAME:EDT
DTSTART:20170312T070000
END:DAYLIGHT
BEGIN:STANDARD
TZOFFSETFROM:-0400
TZOFFSETTO:-0500
TZNAME:EST
DTSTART:20171105T060000
END:STANDARD
BEGIN:DAYLIGHT
TZOFFSETFROM:-0500
TZOFFSETTO:-0400
TZNAME:EDT
DTSTART:20180311T070000
END:DAYLIGHT
BEGIN:STANDARD
TZOFFSETFROM:-0400
TZOFFSETTO:-0500
TZNAME:EST
DTSTART:20181104T060000
END:STANDARD
BEGIN:DAYLIGHT
TZOFFSETFROM:-0500
TZOFFSETTO:-0400
TZNAME:EDT
DTSTART:20190310T070000
END:DAYLIGHT
BEGIN:STANDARD
TZOFFSETFROM:-0400
TZOFFSETTO:-0500
TZNAME:EST
DTSTART:20191103T060000
END:STANDARD
END:VTIMEZONE
BEGIN:VEVENT
DTSTART;TZID=America/Toronto:20181004T180000
DTEND;TZID=America/Toronto:20181004T210000
DTSTAMP:20260425T133154
CREATED:20181001T004657Z
LAST-MODIFIED:20181001T004657Z
UID:997-1538676000-1538686800@bsgames.ca
SUMMARY:Game Night at 3 Brewers
DESCRIPTION:The 3 Brewers at Heartland Town Centre is running game nights on Thursdays and we’re going to check it out. We’ll be there around 6pm.
URL:https://bsgames.ca/event/game-night-at-3-brewers/
LOCATION:3 Brewers\, 5860 Mavis Rd.\, Mississauga\, Ontario\, L5V 3B7\, Canada
END:VEVENT
BEGIN:VEVENT
DTSTART;VALUE=DATE:20180928
DTEND;VALUE=DATE:20181001
DTSTAMP:20260425T133154
CREATED:20180824T001511Z
LAST-MODIFIED:20180824T003358Z
UID:440-1538092800-1538351999@bsgames.ca
SUMMARY:ProtoTO
DESCRIPTION:ProtoTO is Toronto’s tabletop game design convention
URL:https://bsgames.ca/event/prototo/
LOCATION:Ramada Plaza Toronto Downtown\, 300 Jarvis Street\, Toronto\, ON\, M5B 2C5\, Canada
END:VEVENT
BEGIN:VEVENT
DTSTART;TZID=America/Toronto:20180921T173000
DTEND;TZID=America/Toronto:20180921T233000
DTSTAMP:20260425T133154
CREATED:20180826T145850Z
LAST-MODIFIED:20180909T161550Z
UID:614-1537551000-1537572600@bsgames.ca
SUMMARY:Games Night
DESCRIPTION:September’s Games Night at Dicey Business! Come and join us from 5:30 – whenever (closes at midnight). Only $4 for unlimited play!
URL:https://bsgames.ca/event/games-night/
LOCATION:Dicey Business\, 6905 Millcreek Dr. Unit 4\, Mississauga\, Ontario\, Canada
END:VEVENT
BEGIN:VEVENT
DTSTART;TZID=America/Toronto:20180917T180000
DTEND;TZID=America/Toronto:20180917T220000
DTSTAMP:20260425T133154
CREATED:20180906T170307Z
LAST-MODIFIED:20180906T170307Z
UID:821-1537207200-1537221600@bsgames.ca
SUMMARY:Snakes & Lattes Games Designer Night
DESCRIPTION:Going to playtest some games\, ours and other people’s.
URL:https://bsgames.ca/event/snakes-lattes-games-designer-night/
LOCATION:Snakes & Lattes\, 489 College St\, Toronto\, Ontario\, M6G 1A5\, Canada
END:VEVENT
END:VCALENDAR