BEGIN:VCALENDAR
VERSION:2.0
PRODID:-//BSGames - ECPv6.15.20//NONSGML v1.0//EN
CALSCALE:GREGORIAN
METHOD:PUBLISH
X-ORIGINAL-URL:https://bsgames.ca
X-WR-CALDESC:Events for BSGames
REFRESH-INTERVAL;VALUE=DURATION:PT1H
X-Robots-Tag:noindex
X-PUBLISHED-TTL:PT1H
BEGIN:VTIMEZONE
TZID:America/Toronto
BEGIN:DAYLIGHT
TZOFFSETFROM:-0500
TZOFFSETTO:-0400
TZNAME:EDT
DTSTART:20200308T070000
END:DAYLIGHT
BEGIN:STANDARD
TZOFFSETFROM:-0400
TZOFFSETTO:-0500
TZNAME:EST
DTSTART:20201101T060000
END:STANDARD
BEGIN:DAYLIGHT
TZOFFSETFROM:-0500
TZOFFSETTO:-0400
TZNAME:EDT
DTSTART:20210314T070000
END:DAYLIGHT
BEGIN:STANDARD
TZOFFSETFROM:-0400
TZOFFSETTO:-0500
TZNAME:EST
DTSTART:20211107T060000
END:STANDARD
BEGIN:DAYLIGHT
TZOFFSETFROM:-0500
TZOFFSETTO:-0400
TZNAME:EDT
DTSTART:20220313T070000
END:DAYLIGHT
BEGIN:STANDARD
TZOFFSETFROM:-0400
TZOFFSETTO:-0500
TZNAME:EST
DTSTART:20221106T060000
END:STANDARD
BEGIN:DAYLIGHT
TZOFFSETFROM:-0500
TZOFFSETTO:-0400
TZNAME:EDT
DTSTART:20230312T070000
END:DAYLIGHT
BEGIN:STANDARD
TZOFFSETFROM:-0400
TZOFFSETTO:-0500
TZNAME:EST
DTSTART:20231105T060000
END:STANDARD
BEGIN:DAYLIGHT
TZOFFSETFROM:-0500
TZOFFSETTO:-0400
TZNAME:EDT
DTSTART:20240310T070000
END:DAYLIGHT
BEGIN:STANDARD
TZOFFSETFROM:-0400
TZOFFSETTO:-0500
TZNAME:EST
DTSTART:20241103T060000
END:STANDARD
BEGIN:DAYLIGHT
TZOFFSETFROM:-0500
TZOFFSETTO:-0400
TZNAME:EDT
DTSTART:20250309T070000
END:DAYLIGHT
BEGIN:STANDARD
TZOFFSETFROM:-0400
TZOFFSETTO:-0500
TZNAME:EST
DTSTART:20251102T060000
END:STANDARD
END:VTIMEZONE
BEGIN:VEVENT
DTSTART;TZID=America/Toronto:20241102T100000
DTEND;TZID=America/Toronto:20241103T170000
DTSTAMP:20260419T171423
CREATED:20240930T184457Z
LAST-MODIFIED:20240930T184503Z
UID:297505-1730541600-1730653200@bsgames.ca
SUMMARY:Kitchener Comic Con 2024
DESCRIPTION:At the beginning of November\, we’ll be at Kitchener Comic Con! This is a 2-day event being held at Kitchener City Hall and looks to be a fun one! There will be comics\, cosplay\, authors\, some of the cast of the original Degrassi High show\, and all kinds of vendors of cool nerdy stuff! And\, of course\, we’ll be demoing and selling Sinoda!  \n\n\n\nIf you’re in Kitchener and haven’t yet challenged us at Sinoda to try to beat us at our own game\, here’s your chance! Also\, we’ll be selling the limited black and white promo dice sets\, and we’d be happy to sign any copies of Sinoda you purchase. \n\n\n\nCome and see what’s happening in Kitchener November 2 – 3\, and stop by and see us as well!
URL:https://bsgames.ca/event/kitchener-comic-con-2024/
LOCATION:Kitchener City Hall\, 198 King St. W\, Kitchener\, ON\, N2G 1A9
END:VEVENT
BEGIN:VEVENT
DTSTART;TZID=America/Toronto:20241025T170000
DTEND;TZID=America/Toronto:20241027T170000
DTSTAMP:20260419T171423
CREATED:20240524T172700Z
LAST-MODIFIED:20240524T172734Z
UID:296785-1729875600-1730048400@bsgames.ca
SUMMARY:CleriCon 2024
DESCRIPTION:An old-school Dungeons and Dragons and RPG con! CleriCon is in its second year\, but was so popular last year\, of course it’s back! If you like D&D\, particularly the old style\, then come and check it out! There will be several YouTube personalities who run their own D&D channels\, and of course\, we will be there to play Sinoda! \n\n\n\nClick the link to go to the CleriCon website to see all the other great stuff that is happening there on the weekend of October 25 – 27.
URL:https://bsgames.ca/event/clericon-2024/
LOCATION:St. Alban the Martyr\, 537 Main St.\, Glen Williams\, Ontario\, L7G 3T1
END:VEVENT
BEGIN:VEVENT
DTSTART;TZID=America/Toronto:20241004T140000
DTEND;TZID=America/Toronto:20241006T180000
DTSTAMP:20260419T171423
CREATED:20240825T212514Z
LAST-MODIFIED:20240825T212516Z
UID:297312-1728050400-1728237600@bsgames.ca
SUMMARY:Protospiel North - Fall Edition!
DESCRIPTION:Protospiel North is back! It was so popular in the Summer\, that they’re having a Fall edition as well. At Protospiel\, you can bring the unfinished game that you are working on to get a pile of playtesting\, while also playing new\, upcoming games of other designers to give them feedback and help shape the game. You don’t need to be a designer to go\, playtesters are always welcome\, and a playtester badge is cheaper!  Early bird pricing is on until September 4th!
URL:https://bsgames.ca/event/protospiel-north-fall-edition/
LOCATION:Royal Canadian Legion Branch 266-46\, 3591 Dundas St. W\, Toronto\, Ontario
END:VEVENT
BEGIN:VEVENT
DTSTART;TZID=America/Toronto:20240921T100000
DTEND;TZID=America/Toronto:20240921T170000
DTSTAMP:20260419T171423
CREATED:20240913T015350Z
LAST-MODIFIED:20240913T015352Z
UID:297422-1726912800-1726938000@bsgames.ca
SUMMARY:Princess St. Promenade in Kingston
DESCRIPTION:On Saturday\, September 21st\, a section of Princess St. in Kingston comes alive with shops setting up tables outside in the street! Scott will be the guest of Minotaur Games and Gifts\, running demos of Sinoda at their shop from 10am – 5pm! Come by and check it out!  \n\n\n\n\n\n\n\n\n\nhttps://downtownkingston.ca/blogs/upcoming-events/princess-street-promenade
URL:https://bsgames.ca/event/princess-st-promenade-in-kingston/
LOCATION:ON
END:VEVENT
BEGIN:VEVENT
DTSTART;TZID=America/Toronto:20240914T090000
DTEND;TZID=America/Toronto:20240914T180000
DTSTAMP:20260419T171423
CREATED:20240715T160410Z
LAST-MODIFIED:20240715T160413Z
UID:297021-1726304400-1726336800@bsgames.ca
SUMMARY:Guelph Comics Jam
DESCRIPTION:We’re back at the Guelph Comics Jam this year\, where we will be accepting challengers to beat us at our own games\, either Mathemagician’s Duel or Sinoda! Come try us and see if you can defeat us to earn an exclusive sticker that you can use to advertise your awesomeness! \n\n\n\nAlso\, there will be other local artisans and creators with their own amazing creations\, plus\, of course\, comics and comic artists! Last year\, we met Spider-Man!
URL:https://bsgames.ca/event/guelph-comics-jam-2/
LOCATION:The Dragon\, 55 Wyndham St N\, Guelph\, Ontario\, Canada
END:VEVENT
BEGIN:VEVENT
DTSTART;TZID=America/Toronto:20240906T170000
DTEND;TZID=America/Toronto:20240906T220000
DTSTAMP:20260419T171423
CREATED:20240719T141221Z
LAST-MODIFIED:20240719T141224Z
UID:297056-1725642000-1725660000@bsgames.ca
SUMMARY:Sinoda Day at LVLUP Games!
DESCRIPTION:Come to LVLUP Games\, a wonderful game café in Mississauga\, to see what’s going on! What’s going on is Sinoda! Meet us there at 5pm on Friday\, September 6th to play some Sinoda and see if you can beat us at our own game. Try out their amazing sandwiches and baked goods while you’re there\, and also see what other cool events they’re running.
URL:https://bsgames.ca/event/sinoda-day-at-lvlup-games/
LOCATION:LVLUP Games\, 833 Westlock Rd.\, Mississauga\, Ontario\, L5C1K7\, Canada
END:VEVENT
BEGIN:VEVENT
DTSTART;TZID=America/Toronto:20240822T100000
DTEND;TZID=America/Toronto:20240824T220000
DTSTAMP:20260419T171423
CREATED:20240811T213054Z
LAST-MODIFIED:20240811T213148Z
UID:297211-1724320800-1724536800@bsgames.ca
SUMMARY:CNE Game Day
DESCRIPTION:We’ll be hanging out at the CNE playing Sinoda. Drop by and challenge us to a game!
URL:https://bsgames.ca/event/cne-game-day/
LOCATION:Enercare Centre (Gaming Garage)\, 100 Princes' Blvd #1\, Toronto\, ON\, M6K 3C3\, Canada
END:VEVENT
BEGIN:VEVENT
DTSTART;TZID=America/Toronto:20240810T100000
DTEND;TZID=America/Toronto:20240810T170000
DTSTAMP:20260419T171423
CREATED:20240719T142029Z
LAST-MODIFIED:20240719T142032Z
UID:297060-1723284000-1723309200@bsgames.ca
SUMMARY:Niagara-on-the-Lake Peach Festival
DESCRIPTION:Once again\, we are guests of It’s All Fun and Games on the main street of Niagara-on-the-Lake for the Peach Festival! The main street will be closed to cars and all the stores on the street will be setting up on the sidewalk to share what they have to offer. And this year\, what we and It’s All Fun and Games have to offer is Sinoda! Come and see everything that’s going on\, but don’t forget to stop and play Sinoda and see all the other great stuff that It’s All Fun and Games has\, which includes ice cream! Really good ice cream!
URL:https://bsgames.ca/event/niagara-on-the-lake-peach-festival-2/
LOCATION:It’s All Fun and Games\, 29 Queen St\, Niagara-on-the-Lake\, Ontario\, Canada
END:VEVENT
BEGIN:VEVENT
DTSTART;TZID=America/Toronto:20240803T130000
DTEND;TZID=America/Toronto:20240803T170000
DTSTAMP:20260419T171423
CREATED:20240719T140811Z
LAST-MODIFIED:20240719T140813Z
UID:297052-1722690000-1722704400@bsgames.ca
SUMMARY:Sinoda Release and Demo Day at The Dragon!
DESCRIPTION:We’ll be at The Dragon in Guelph from 1pm – 5pm on Saturday\, August 3rd\, running demos and of course\, taking challengers for our exclusive stickers in our Beat Me At My Own Game challenge! Come check out the coolest comic shop in Guelph and play some Sinoda!
URL:https://bsgames.ca/event/sinoda-release-and-demo-day-at-the-dragon/
LOCATION:The Dragon\, 55 Wyndham St N\, Guelph\, Ontario\, Canada
END:VEVENT
BEGIN:VEVENT
DTSTART;TZID=America/Toronto:20240731T190000
DTEND;TZID=America/Toronto:20240731T230000
DTSTAMP:20260419T171423
CREATED:20240715T155826Z
LAST-MODIFIED:20240715T155827Z
UID:297015-1722452400-1722466800@bsgames.ca
SUMMARY:Sinoda Launch Party at Dicey Business!
DESCRIPTION:The official launch of Sinoda on Wednesday\, July 31st at our local game café\, Dicey Business! \n\n\n\nIf you preordered your copy at Dicey Business\, you can come and get it! If you haven’t bought Sinoda yet\, come get one! Either way\, come out and play some Sinoda and have some fun! We’ll be there ready to sign your copy of Sinoda\, and to take on your challenge to see if you can beat us at our own game! \n\n\n\nWe hope to see you there!
URL:https://bsgames.ca/event/sinoda-launch-party-at-dicey-business/
LOCATION:Dicey Business\, 6905 Millcreek Dr. Unit 4\, Mississauga\, Ontario\, Canada
END:VEVENT
BEGIN:VEVENT
DTSTART;TZID=America/Toronto:20240615T120000
DTEND;TZID=America/Toronto:20240615T190000
DTSTAMP:20260419T171423
CREATED:20240523T202517Z
LAST-MODIFIED:20240524T192055Z
UID:296772-1718452800-1718478000@bsgames.ca
SUMMARY:Sinoda Demo Day at Goblets and Goblins
DESCRIPTION:We’re heading to an amazing game café in Newmarket called Goblets and Goblins on Saturday June 15 to do demonstrations of Sinoda for their game community. If you’re anywhere nearby\, you need to come and see this place! It is an entire old house\, with multiple levels\, dedicated to gaming. And the food is really good\, too! \n\n\n\nWhile we’re there\, we’re going to play as many games of Sinoda as we can with as many people as we can\, and anyone who comes to the event can preorder their copy of Sinoda to be delivered to Goblets and Goblins when it is released. Come and see us\, and this really cool game café!
URL:https://bsgames.ca/event/sinoda-demo-day-at-goblets-and-goblins/
LOCATION:Goblets and Goblins\, 17766 Leslie St\, Newmarket\, Ontario\, L3Y 4W4
END:VEVENT
BEGIN:VEVENT
DTSTART;TZID=America/Toronto:20240608T090000
DTEND;TZID=America/Toronto:20240609T180000
DTSTAMP:20260419T171423
CREATED:20240523T201727Z
LAST-MODIFIED:20240523T201730Z
UID:296762-1717837200-1717956000@bsgames.ca
SUMMARY:Protospiel North
DESCRIPTION:June 8 and 9\, Bill and Scott are going to Protospiel North\, playtesting our new games and playing new\, unpublished games of other designers. This is a great event for designers to meet up and try out new games and ideas\, while getting and offering advice to make these games the best they can be. \n\n\n\nBut you don’t have to be a designer to go! They always need people to just show up and play the games and give their opinions and feedback! And if you register as a playtester\, but not a designer\, the weekend pass is much cheaper!
URL:https://bsgames.ca/event/protospiel-north-3/
LOCATION:Royal Canadian Legion Branch 266-46\, 3591 Dundas St. W\, Toronto\, Ontario
END:VEVENT
BEGIN:VEVENT
DTSTART;TZID=America/Toronto:20240601T120000
DTEND;TZID=America/Toronto:20240601T160000
DTSTAMP:20260419T171423
CREATED:20240523T200648Z
LAST-MODIFIED:20240523T200738Z
UID:296754-1717243200-1717257600@bsgames.ca
SUMMARY:Board Game Demo Day at Heroes World
DESCRIPTION:On Saturday June 1st\, while Bill is showing Sinoda at the Streetesville Bread and Honey Festival\, Scott will be heading over to an amazing comic shop in Richmond Hill called Heroes World for a Board Game Demo event! Scott will be teaching Mathemagician’s Duel and Sinoda along side other guests who will be teaching other games as well! And it’s free to attend! This one’s only running from 12-4pm\, so don’t leave it too late to get there.
URL:https://bsgames.ca/event/board-game-demo-day-at-heroes-world/
LOCATION:Heroes World\, 9078 Leslie St\, Richmond Hill\, Ontario\, L4B 3L8
END:VEVENT
BEGIN:VEVENT
DTSTART;TZID=America/Toronto:20240531T160000
DTEND;TZID=America/Toronto:20240602T160000
DTSTAMP:20260419T171423
CREATED:20240523T195446Z
LAST-MODIFIED:20240523T200838Z
UID:296746-1717171200-1717344000@bsgames.ca
SUMMARY:Streetsville Bread and Honey Festival
DESCRIPTION:We will be guests of Dicey Business Game Café at this year’s Bread and Honey Festival in Streetsville! Dicey Business will have a booth to show the games they have at their café\, while we will be doing demonstrations of our upcoming game\, Sinoda! You can even preorder yours at Dicey’s booth\, and pick it up at the Meadowvale-based café when it comes in. \n\n\n\nThere’s a lot going on all 3 days of the Bread and Honey Festival\, so leave time in your day to stop by and say hi!
URL:https://bsgames.ca/event/streetsville-bread-and-honey-festival/
LOCATION:Streetsville Memorial Park\, 355 Church St\, Mississauga\, Ontario\, L5M 2C2
END:VEVENT
BEGIN:VEVENT
DTSTART;TZID=America/Toronto:20230916T100000
DTEND;TZID=America/Toronto:20230916T180000
DTSTAMP:20260419T171423
CREATED:20230508T191607Z
LAST-MODIFIED:20230508T192203Z
UID:8671-1694858400-1694887200@bsgames.ca
SUMMARY:Guelph Comics Jam
DESCRIPTION:This year’s Guelph Comics Jam\, hosted by The Dragon in Guelph\, should be a big one\, because it’s The Dragon’s 25th anniversary! \nWe’ll be there\, demoing our Mathemagician’s Duel (and maybe a new upcoming game!)\, but so will a pile of artists. Comic book artists and local vendors will be there\, so there will be a lot to see and do! \nCome check it out on Saturday\, September 16th in Guelph at the Old Quebec St. Shoppes.
URL:https://bsgames.ca/event/guelph-comics-jam/
LOCATION:ON
END:VEVENT
BEGIN:VEVENT
DTSTART;TZID=America/Toronto:20230812T000000
DTEND;TZID=America/Toronto:20230812T235959
DTSTAMP:20260419T171423
CREATED:20230508T190804Z
LAST-MODIFIED:20230508T191537Z
UID:8666-1691798400-1691884799@bsgames.ca
SUMMARY:Niagara-on-the-Lake Peach Festival
DESCRIPTION:We had so much fun last year\, we’re going back this year! \nOn August 12th\, they’ll be shutting down the main street of Niagara-on-the-Lake to cars\, making it pedestrian only\, so you can wander down and see all of the amazing stores\, booths\, and demonstrations happening! \nWe’ll be hanging out at the amazing game store\, It’s All Fun and Games\, doing demos of Mathemagician’s Duel. Maybe you can even take us on in the Beat Me At My Own Game Challenge and earn an exclusive sticker! \nThey don’t have the official website for this year’s event up\, but you can check out more information about It’s All Fun and Games here: https://www.itsallfunandgamescanada.ca/
URL:https://bsgames.ca/event/niagara-on-the-lake-peach-festival/
LOCATION:ON
END:VEVENT
BEGIN:VEVENT
DTSTART;TZID=America/Toronto:20230610T100000
DTEND;TZID=America/Toronto:20230611T180000
DTSTAMP:20260419T171423
CREATED:20230508T185245Z
LAST-MODIFIED:20230508T190415Z
UID:8662-1686391200-1686506400@bsgames.ca
SUMMARY:Protospiel North
DESCRIPTION:Yes! Another prototyping convention for game designers! We love this event\, as we get to try out our games and ideas and get useful feedback\, but also get to try other people’s games to help them. \nThis on is Saturday and Sunday\, June 10 and 11th. It’s at the Royal Canadian Legion Branch 266-46\, which is 3591 Dundas St. W\, Toronto. \nYou don’t need to be a designer to attend; a Playtester pass is only $11 for the whole weekend! \nCheck here for more information: Protospiel North 2023 \n 
URL:https://bsgames.ca/event/protospiel-north-2/
LOCATION:ON
END:VEVENT
BEGIN:VEVENT
DTSTART;TZID=America/Toronto:20230520T100000
DTEND;TZID=America/Toronto:20230520T160000
DTSTAMP:20260419T171423
CREATED:20230508T184019Z
LAST-MODIFIED:20230508T185237Z
UID:8657-1684576800-1684598400@bsgames.ca
SUMMARY:Makerfest
DESCRIPTION:Makerfest is a celebration of creative people in or around Mississauga! They will be a bunch of them running tables at Courtneypark Library on Saturday\, May 27. \nIt’s running from 10am-4pm and doesn’t cost anything to get in! There will all sorts of demonstrations of robots and other technology\, as well as craftspeople showcasing what they do. We’ll be there as well\, playing Mathemagician’s Duel and demoing our next game\, Sinoda. You can try the Beat Me At My Own Game Challenge and see if you can defeat Scott  at his own game and earn an exclusive sticker. It’s a sticky badge of honour that few have earned so far… \nJoin us at 730 Courtneypark Dr. Mississauga\, ON on Saturday\, may 27th from 10am – 4pm and see some really cool stuff! \nMore info is here: https://www.mississauga.ca/library/makerfest/ \n 
URL:https://bsgames.ca/event/makerfest/
LOCATION:ON
END:VEVENT
BEGIN:VEVENT
DTSTART;TZID=America/Toronto:20230519T140000
DTEND;TZID=America/Toronto:20230521T210000
DTSTAMP:20260419T171423
CREATED:20230508T183007Z
LAST-MODIFIED:20230508T183939Z
UID:8650-1684504800-1684702800@bsgames.ca
SUMMARY:Cangames Ottawa
DESCRIPTION:On Saturday\, May 20th\, Scott will be at Cangames in Ottawa\, being held at the Rideau Curling Club! Come by and try Mathemagician’s Duel\, and even take Scott on in the Beat Me At My Own Game Challenge. If you defeat him\, you get an exclusive sticker that has only been earned 6 times! \nThe event is 3 days long\, and a full weekend pass is only $35! Check out the link for more information: http://cangames.ca/
URL:https://bsgames.ca/event/cangames-ottawa/
LOCATION:Rideau Curling CLub\, 715 Cooper St\, Ottawa\, Ontario\, K1R 5J5\, Canada
END:VEVENT
BEGIN:VEVENT
DTSTART;TZID=America/Toronto:20220318T140000
DTEND;TZID=America/Toronto:20220318T190000
DTSTAMP:20260419T171423
CREATED:20220303T221740Z
LAST-MODIFIED:20220303T221740Z
UID:8080-1647612000-1647630000@bsgames.ca
SUMMARY:Mathemagician's Duel at Brighten Up Toys and Games
DESCRIPTION:We’re going back to Brighten Up to run Mathemagician’s Duel demos at BOTH locations! \nBill and Scott are splitting up to be at both Brighten Up locations\, in Erin and in Fergus\, to run demos on Friday\, March 18 from 2pm – 7pm! And then I’m pretty sure we’re going to the Goofie Newfie in Fergus for dinner. \nIf you’re in the area\, stop by and check out this amazing toy store\, or if you know someone in the area who hasn’t experienced Mathemagician’s Duel yet\, get them to stop in and see us!
URL:https://bsgames.ca/event/mathemagicians-duel-at-brighten-up-toys-and-games/
LOCATION:ON
END:VEVENT
BEGIN:VEVENT
DTSTART;TZID=America/Toronto:20220305T080000
DTEND;TZID=America/Toronto:20220305T170000
DTSTAMP:20260419T171423
CREATED:20220305T151356Z
LAST-MODIFIED:20220305T151356Z
UID:8085-1646467200-1646499600@bsgames.ca
SUMMARY:Mathemagician's Duel demos at The Guild House
DESCRIPTION:A March Break event! Join Bill and Scott at The Guild House in Toronto for Mathemagician’s Duel demos! If you’re in the area and haven’t tried our game yet\, come and give it a go. While you’re there\, check out this cool game store with a medieval-tavern inspired gaming area. Stay and play a game while having something to eat. It’ll be fun times all afternoon! \nWe’ll be there Thursday\, March 17 from 2pm – 7pm.
URL:https://bsgames.ca/event/mathemagicians-duel-demos-at-the-guild-house/
LOCATION:The Guild House\, 579 St. Clair West\, Toronto\, Ontario\, M6C 1A3\, Canada
END:VEVENT
BEGIN:VEVENT
DTSTART;TZID=America/Toronto:20211127T120000
DTEND;TZID=America/Toronto:20211127T170000
DTSTAMP:20260419T171423
CREATED:20211027T015314Z
LAST-MODIFIED:20211027T015314Z
UID:7849-1638014400-1638032400@bsgames.ca
SUMMARY:Demo Day at Black Knight Games
DESCRIPTION:Saturday\, November 27th is Demo Day at Black Knight Games! They’ll have staff and volunteers with games open at tables for you to try. And we will be there as well with Mathemagician’s Duel! \nAlso exciting is that you’ll be able to see the result of the renovations and new gaming space! \nCome visit us\, check out some other games\, and if you haven’t been there before\, experience an awesome game store in Hamilton!
URL:https://bsgames.ca/event/demo-day-at-black-knight-games/
LOCATION:Black Knight Games\, 864 Mohawk Rd E\, Hamilton\, Ontario\, L8T 2R5\, Canada
END:VEVENT
BEGIN:VEVENT
DTSTART;TZID=America/Toronto:20211112T160000
DTEND;TZID=America/Toronto:20211114T180000
DTSTAMP:20260419T171423
CREATED:20210927T223808Z
LAST-MODIFIED:20210927T223808Z
UID:7589-1636732800-1636912800@bsgames.ca
SUMMARY:Protospiel North 2021
DESCRIPTION:Protospiel North is a game design convention in Toronto! If you’re a game designer\, you can bring your designs to playtest and get feedback and responses! But you don’t have to be a designer; they also need playtesters\, so even if you don’t have a game to work on and showcase\, they’d love to see you there\, playing games and offering feedback! \nFriday November 12 – Sunday November 14th at Beverly Halls SPK
URL:https://bsgames.ca/event/protospiel-north-2021/
LOCATION:ON
END:VEVENT
BEGIN:VEVENT
DTSTART;TZID=America/Toronto:20211016T090000
DTEND;TZID=America/Toronto:20211016T120000
DTSTAMP:20260419T171423
CREATED:20211015T025110Z
LAST-MODIFIED:20211015T025110Z
UID:7750-1634374800-1634385600@bsgames.ca
SUMMARY:Mathemagician's Duel Demo Day at The Hooded Goblin
DESCRIPTION:On Saturday\, October 16th\, from 9am – noon\, Bill and I will be checking out the game store in Georgetown: The Hooded Goblin. \nWhile there\, we will be running demos of Mathemagician’s Duel. There’s also a Farmer’s market on down the street apparently\, so there’s lots  to do! Mostly\, we’re looking forward to visiting a game store we’ve heard a lot about. \nCome join us!
URL:https://bsgames.ca/event/mathemagicians-duel-demo-day-at-the-hooded-goblin/
LOCATION:The Hooded Goblin\, 30 main St. S\, Georgetown\, Ontario\, L7G 3G4\, Canada
END:VEVENT
BEGIN:VEVENT
DTSTART;TZID=America/Toronto:20210916T080000
DTEND;TZID=America/Toronto:20210919T170000
DTSTAMP:20260419T171423
CREATED:20210804T141521Z
LAST-MODIFIED:20210804T141521Z
UID:7034-1631779200-1632070800@bsgames.ca
SUMMARY:Pop-Up Gen Con
DESCRIPTION:Event Horizon Hobbies is hosting Pop-Up Gen Con in Midland\, Ontario\, and Scott is going to be there on Saturday\, September 18th and 19th! \nThe event runs from Thursday the 16th until Sunday the 19th\, and will have games\, contests\, and fun!
URL:https://bsgames.ca/event/pop-up-gen-con/
LOCATION:Event Horizon Hobbies\, 845 King St\, Units 7-9\, Midland\, Ontario\, L4R 0B7\, Canada
END:VEVENT
BEGIN:VEVENT
DTSTART;TZID=America/Toronto:20210829T130000
DTEND;TZID=America/Toronto:20210829T160000
DTSTAMP:20260419T171423
CREATED:20210815T122913Z
LAST-MODIFIED:20210815T122937Z
UID:7183-1630242000-1630252800@bsgames.ca
SUMMARY:Card Games Event in Newmarket
DESCRIPTION:Hobby Knight in Canada\, the great little store in Newmarket\, is holding a card games event on Sunday\, August 29th from 1-4pm. It will be on the spacious patio of the nearby George Brewhouse and Eatery. \nCome and learn and play some card games! Scott will be there showcasing Mathemagician’s Duel! \n  \nHope to see you there!
URL:https://bsgames.ca/event/card-games-event-in-newmarket/
LOCATION:The George Brewhouse and Eatery\, 236 Main St. S\, Newmarket\, Ontario\, L3Y 3Z5\, Canada
END:VEVENT
BEGIN:VEVENT
DTSTART;TZID=America/Toronto:20210815T110000
DTEND;TZID=America/Toronto:20210815T170000
DTSTAMP:20260419T171423
CREATED:20210731T204649Z
LAST-MODIFIED:20210731T204649Z
UID:7022-1629025200-1629046800@bsgames.ca
SUMMARY:Free Comic Book Day at Gotham Central Comics
DESCRIPTION:Scott will be at Gotham Central Comics running demos of Mathemagician’s Duel for Free Comic Book Day! The event runs both days of the weekend\, so check out Saturday as well\, for the charity bbq\, the guest artists\, raffles\, and sales! \nScott will only be there on the Sunday\, though. \n  \nSee you there!
URL:https://bsgames.ca/event/free-comic-book-day-at-gotham-central-comics/
LOCATION:Gotham Central Comics\, 1400 Aimco Blvd. #1\, Mississauga\, Ontario\, Canada
END:VEVENT
BEGIN:VEVENT
DTSTART;TZID=America/Toronto:20210723T120000
DTEND;TZID=America/Toronto:20210723T210000
DTSTAMP:20260419T171423
CREATED:20210720T171723Z
LAST-MODIFIED:20210720T171723Z
UID:6999-1627041600-1627074000@bsgames.ca
SUMMARY:Bill and Scott at The Guild House
DESCRIPTION:From noon until whenever\, on Friday\, Bill and Scott are going to check out and hang out at The Guild House in Toronto. It’s a game store\, with a great themed play area in it. We’re going to hang out an play games all day! We might playtest some of our own prototypes\, and we’ll definitely be trying the baked goods they sell there to snack on! \nCheck out their website: https://theguildhouse.ca/ \n 
URL:https://bsgames.ca/event/bill-and-scott-at-the-guild-house/
LOCATION:The Guild House\, 579 St. Clair West\, Toronto\, Ontario\, M6C 1A3\, Canada
END:VEVENT
BEGIN:VEVENT
DTSTART;VALUE=DATE:20210717
DTEND;VALUE=DATE:20210718
DTSTAMP:20260419T171423
CREATED:20210714T170311Z
LAST-MODIFIED:20210714T170311Z
UID:6971-1626480000-1626566399@bsgames.ca
SUMMARY:Elmvale Sci Fi Masquerade
DESCRIPTION:This weekend! We were there 2 years ago\, in person and had a great time. Last year was canceled\, and this year it is virtual! In case you don’t live near Elmvale\, you can now experience it from home! \nCheck out who is going to be there: https://www.scififestival.ca/ \nCheck out our recap of the Elmvale Scifi/Fantasy Street Party we attended: \nhttps://bsgames.ca/northward-for-fun-the-elmvale-scifi-festival-recap/
URL:https://bsgames.ca/event/elmvale-sci-fi-masquerade/
LOCATION:ON
END:VEVENT
BEGIN:VEVENT
DTSTART;TZID=America/Toronto:20210716T180000
DTEND;TZID=America/Toronto:20210716T230000
DTSTAMP:20260419T171423
CREATED:20210712T180351Z
LAST-MODIFIED:20210712T180625Z
UID:6957-1626458400-1626476400@bsgames.ca
SUMMARY:Bill and Scott at Dicey Business
DESCRIPTION:With stores opening again\, and so many people fully vaccinated\, Bill and Scott will be meeting with a group of artists at Dicey Business on Friday\, July 16th! \nThis meeting will be mostly about art and illustration\, but we’re always willing to play a game and show you what we’ve been working on! We’ll be there from 6pm until we’re too tired to do any more! \nIn fact part of the meeting will be with Collective Arts Brewing Company\, as they take artist submissions to decorate their beer cans! Dicey Business is the only liquor-licensed game café in Mississauga\, and they serve Collective Arts beer.
URL:https://bsgames.ca/event/bill-and-scott-at-dicey-business/
LOCATION:Dicey Business\, 6905 Millcreek Dr. Unit 4\, Mississauga\, Ontario\, Canada
END:VEVENT
END:VCALENDAR