BEGIN:VCALENDAR
VERSION:2.0
PRODID:-//BSGames - ECPv6.15.20//NONSGML v1.0//EN
CALSCALE:GREGORIAN
METHOD:PUBLISH
X-WR-CALNAME:BSGames
X-ORIGINAL-URL:https://bsgames.ca
X-WR-CALDESC:Events for BSGames
REFRESH-INTERVAL;VALUE=DURATION:PT1H
X-Robots-Tag:noindex
X-PUBLISHED-TTL:PT1H
BEGIN:VTIMEZONE
TZID:America/Toronto
BEGIN:DAYLIGHT
TZOFFSETFROM:-0500
TZOFFSETTO:-0400
TZNAME:EDT
DTSTART:20170312T070000
END:DAYLIGHT
BEGIN:STANDARD
TZOFFSETFROM:-0400
TZOFFSETTO:-0500
TZNAME:EST
DTSTART:20171105T060000
END:STANDARD
BEGIN:DAYLIGHT
TZOFFSETFROM:-0500
TZOFFSETTO:-0400
TZNAME:EDT
DTSTART:20180311T070000
END:DAYLIGHT
BEGIN:STANDARD
TZOFFSETFROM:-0400
TZOFFSETTO:-0500
TZNAME:EST
DTSTART:20181104T060000
END:STANDARD
BEGIN:DAYLIGHT
TZOFFSETFROM:-0500
TZOFFSETTO:-0400
TZNAME:EDT
DTSTART:20190310T070000
END:DAYLIGHT
BEGIN:STANDARD
TZOFFSETFROM:-0400
TZOFFSETTO:-0500
TZNAME:EST
DTSTART:20191103T060000
END:STANDARD
BEGIN:DAYLIGHT
TZOFFSETFROM:-0500
TZOFFSETTO:-0400
TZNAME:EDT
DTSTART:20200308T070000
END:DAYLIGHT
BEGIN:STANDARD
TZOFFSETFROM:-0400
TZOFFSETTO:-0500
TZNAME:EST
DTSTART:20201101T060000
END:STANDARD
BEGIN:DAYLIGHT
TZOFFSETFROM:-0500
TZOFFSETTO:-0400
TZNAME:EDT
DTSTART:20210314T070000
END:DAYLIGHT
BEGIN:STANDARD
TZOFFSETFROM:-0400
TZOFFSETTO:-0500
TZNAME:EST
DTSTART:20211107T060000
END:STANDARD
END:VTIMEZONE
BEGIN:VEVENT
DTSTART;TZID=America/Toronto:20200123T183000
DTEND;TZID=America/Toronto:20200123T233000
DTSTAMP:20260425T062816
CREATED:20200108T140922Z
LAST-MODIFIED:20200108T140922Z
UID:2140-1579804200-1579822200@bsgames.ca
SUMMARY:Bill at Dicey Business
DESCRIPTION:Most Thursdays you can find Bill hanging at Dicey Business\, playing games\, drawing characters from the upcoming games of discussing new art. \nWhy not come by and say hi and see what’s new? Contact Bill to see if he’ll be there\, and then join the fun! E-mail him at bill.bsgames@gmail.com on Wednesday or Thursday during the day to confirm. He’d love to see you there to play and talk about games.
URL:https://bsgames.ca/event/bill-at-dicey-business/
LOCATION:Dicey Business\, 6905 Millcreek Dr. Unit 4\, Mississauga\, Ontario\, Canada
END:VEVENT
BEGIN:VEVENT
DTSTART;TZID=America/Toronto:20200116T183000
DTEND;TZID=America/Toronto:20200116T233000
DTSTAMP:20260425T062816
CREATED:20200108T140743Z
LAST-MODIFIED:20200108T140743Z
UID:2136-1579199400-1579217400@bsgames.ca
SUMMARY:Hanging out at Dicey Business
DESCRIPTION:Most Thursdays you can find Bill hanging at Dicey Business\, playing games\, drawing characters from the upcoming games of discussing new art. \nWhy not come by and say hi and see what’s new? Contact Bill to see if he’ll be there\, and then join the fun! E-mail him at bill.bsgames@gmail.com on Wednesday or Thursday during the day to confirm. He’d love to see you there to play and talk about games.
URL:https://bsgames.ca/event/hanging-out-at-dicey-business/
LOCATION:Dicey Business\, 6905 Millcreek Dr. Unit 4\, Mississauga\, Ontario\, Canada
END:VEVENT
BEGIN:VEVENT
DTSTART;TZID=America/Toronto:20200111T110000
DTEND;TZID=America/Toronto:20200111T150000
DTSTAMP:20260425T062816
CREATED:20200108T152934Z
LAST-MODIFIED:20200108T152934Z
UID:2146-1578740400-1578754800@bsgames.ca
SUMMARY:Launch Party at MindShare WorkSpace in Erin Mills
DESCRIPTION:Another launch party! Can’t make it to Friday night at Dicey Business? Come to the launch party Saturday afternoon at MindShare WorkSpace at the Erin Mills Town Centre! \nWe’ll be there from 11am – 3pm doing demonstrations of Mathemagician’s Duel and talking about making games. You can pick up your preorder\, or purchase your own copy if you didn’t preorder.
URL:https://bsgames.ca/event/launch-party-at-mindshare-workspace-in-erin-mills/
LOCATION:MindShare Workspace\, Erin Mills Town Centre\, 5100 Erin Mills Pkwy\, Mississauga\, Ontario\, L5M 4Z5\, Canada
END:VEVENT
BEGIN:VEVENT
DTSTART;TZID=America/Toronto:20200110T063000
DTEND;TZID=America/Toronto:20200110T233000
DTSTAMP:20260425T062816
CREATED:20200108T140129Z
LAST-MODIFIED:20200108T140129Z
UID:2133-1578637800-1578699000@bsgames.ca
SUMMARY:Mathemagician's Duel Launch Party at Dicey Business!
DESCRIPTION:Mathemagician’s Duel is here! You can pick up your preorder at Dicey Business\, or if you haven’t preordered\, you can buy one! \nWe’ll be there from 6:30 until the end of the night\, playing games and celebrating the release of our first game! Come and join us\, their might be cake!
URL:https://bsgames.ca/event/mathemagicians-duel-launch-party-at-dicey-business/
LOCATION:Dicey Business\, 6905 Millcreek Dr. Unit 4\, Mississauga\, Ontario\, Canada
END:VEVENT
BEGIN:VEVENT
DTSTART;TZID=America/Toronto:20191104T180000
DTEND;TZID=America/Toronto:20191104T200000
DTSTAMP:20260425T062816
CREATED:20191005T144255Z
LAST-MODIFIED:20191005T144255Z
UID:1649-1572890400-1572897600@bsgames.ca
SUMMARY:Games in the Classroom Panel at 401 Games
DESCRIPTION:I’ll be participating in a panel discussion about using board games in the classroom at 401 Games on Monday November 4th from 6-8pm. \nCome check it out!
URL:https://bsgames.ca/event/games-in-the-classroom-panel-at-401-games/
LOCATION:401 Games Downtown\, 750 Yonge St.\, Toronto\, Ontario\, M4Y 2B6\, Canada
END:VEVENT
BEGIN:VEVENT
DTSTART;TZID=America/Toronto:20191102T090000
DTEND;TZID=America/Toronto:20191103T090000
DTSTAMP:20260425T062816
CREATED:20191005T143822Z
LAST-MODIFIED:20191005T143822Z
UID:1644-1572685200-1572771600@bsgames.ca
SUMMARY:Extra-life 24-hour gaming event!
DESCRIPTION:I’m going to play games for 24 hours straight to raise money for Sick Kids Hospital! \nJoin me at Dicey Business in Mississauga and play a game and see if I’m able to stay awake! Also\, donate some money to help Sick Kids continue doing its great work with kids who need help the most. \nYou don’t have to stay the whole 24 hours\, but it would be great to see you for a bit and play a game. It’s only $5 to stay and play as long as you want. Also\, try the grilled cheese; it’s really good. \nYou can donate through our team page: https://www.extra-life.org/team/48409
URL:https://bsgames.ca/event/extra-life-24-hour-gaming-event/
LOCATION:Dicey Business\, 6905 Millcreek Dr. Unit 4\, Mississauga\, Ontario\, Canada
END:VEVENT
BEGIN:VEVENT
DTSTART;TZID=America/Toronto:20190927T180000
DTEND;TZID=America/Toronto:20190929T180000
DTSTAMP:20260425T062816
CREATED:20190812T224003Z
LAST-MODIFIED:20190812T224003Z
UID:1504-1569607200-1569780000@bsgames.ca
SUMMARY:ProtoTO 2019
DESCRIPTION:It’s time for another awesome game designers’ convention! ProtoTO! We had a great time last year\, so we’re going again this year. It’s September 27-29th\, and you don’t need to be a designer to attend. Anyone who likes games will enjoy this event. You can sign up as a designer and spend the weekend playing games and providing feedback. \nCheck the website for all the cool details: http://www.prototo.ca/
URL:https://bsgames.ca/event/prototo-2019/
END:VEVENT
BEGIN:VEVENT
DTSTART;VALUE=DATE:20190816
DTEND;VALUE=DATE:20190818
DTSTAMP:20260425T062816
CREATED:20190802T171026Z
LAST-MODIFIED:20190802T171026Z
UID:1488-1565913600-1566086399@bsgames.ca
SUMMARY:North American Youth Chess Championships
DESCRIPTION:The what? That’s right\, we’ll be visiting the North American Youth Chess Championships in Kingston\, Ontario! Hosted by The Chess ‘n Math Association and being held at Queen’s University\, it will be an extravaganza of strategy competition! \nWe have been given permission to set up a table to demonstrate our math-based Mathemagician’s Duel\, and also the newest strategy game we’re working on\, Sinoda. If you are in the area\, come by and check us out! Also\, see some high-level chess being played! \nAlthough the chess goes from Saturday until Tuesday\, we’ll be there just on the Friday and Saturday. If we decide we can stay for Sunday\, we’ll let you know!
URL:https://bsgames.ca/event/north-american-youth-chess-championships/
END:VEVENT
BEGIN:VEVENT
DTSTART;TZID=America/Toronto:20190804T080000
DTEND;TZID=America/Toronto:20190804T170000
DTSTAMP:20260425T062816
CREATED:20190805T014737Z
LAST-MODIFIED:20190805T014737Z
UID:1492-1564905600-1564938000@bsgames.ca
SUMMARY:Game night at LVLUP Games
DESCRIPTION:Come join us at LVLUP Games! We’ll be there around 6:30\, to play some games. It’s a great place with friendly staff and fun people.
URL:https://bsgames.ca/event/game-night-at-lvlup-games/
LOCATION:LVLUP Games\, 833 Westlock Rd.\, Mississauga\, Ontario\, L5C1K7\, Canada
END:VEVENT
BEGIN:VEVENT
DTSTART;TZID=America/Toronto:20190720T100000
DTEND;TZID=America/Toronto:20190720T160000
DTSTAMP:20260425T062816
CREATED:20190625T221337Z
LAST-MODIFIED:20190625T221337Z
UID:1418-1563616800-1563638400@bsgames.ca
SUMMARY:Elmvale Sci-Fi Festival
DESCRIPTION:It looks like we’ll be heading to the Elmvale Sci-Fi Festval where we’ve booked a vendor’s table! In addition to checking out all the Sci-Fi and Fantasy fan goodness\, we’ll be showing off our games and hopefully be gathering more preorders for Mathemagician’s Duel! \nElmvale is a bit of a drive from here\, but it will be worth it for Saturday July 20th\, from 10am until 4pm. \nMore details are here: http://www.scififestival.ca/
URL:https://bsgames.ca/event/elmvale-sci-fi-festival/
END:VEVENT
BEGIN:VEVENT
DTSTART;TZID=America/Toronto:20190705T190000
DTEND;TZID=America/Toronto:20190705T233000
DTSTAMP:20260425T062816
CREATED:20190702T145110Z
LAST-MODIFIED:20190702T145110Z
UID:1422-1562353200-1562369400@bsgames.ca
SUMMARY:Game Night at Dicey Business!
DESCRIPTION:Another fun evening at Dicey Business! Join us for fun\, food\, and games! \nWe’ll be there around 7pm\, and we’ll be staying late. Come by any time! \n6905 Millcreek Dr.\, Mississauga\, next to the Meadowvale GO Station.
URL:https://bsgames.ca/event/game-night-at-dicey-business/
LOCATION:Dicey Business\, 6905 Millcreek Dr. Unit 4\, Mississauga\, Ontario\, Canada
END:VEVENT
BEGIN:VEVENT
DTSTART;TZID=America/Toronto:20190620T183000
DTEND;TZID=America/Toronto:20190620T230000
DTSTAMP:20260425T062816
CREATED:20190531T023109Z
LAST-MODIFIED:20190531T023109Z
UID:1391-1561055400-1561071600@bsgames.ca
SUMMARY:Dicey Business
DESCRIPTION:We’ll be at Dicey Business Thursday\, June 20th! Come and join us for games! \nWe’ll play\, we’ll eat\, we’ll chat… it’ll be great! Show up anytime\, but usually arrive around 6:30pm.
URL:https://bsgames.ca/event/dicey-business-4/
END:VEVENT
BEGIN:VEVENT
DTSTART;TZID=America/Toronto:20190607T183000
DTEND;TZID=America/Toronto:20190607T233000
DTSTAMP:20260425T062816
CREATED:20190531T022030Z
LAST-MODIFIED:20190531T022030Z
UID:1387-1559932200-1559950200@bsgames.ca
SUMMARY:Dicey Business
DESCRIPTION:We’ll be hanging and gaming at Dicey Business on Friday\, June 7th! Come join us! We’ll be there from 6:30pm until late!
URL:https://bsgames.ca/event/dicey-business-3/
LOCATION:Dicey Business\, 6905 Millcreek Dr. Unit 4\, Mississauga\, Ontario\, Canada
END:VEVENT
BEGIN:VEVENT
DTSTART;TZID=America/Toronto:20190525T110000
DTEND;TZID=America/Toronto:20190525T160000
DTSTAMP:20260425T062816
CREATED:20190222T233724Z
LAST-MODIFIED:20190222T233724Z
UID:1214-1558782000-1558800000@bsgames.ca
SUMMARY:Mississauga Makerfest
DESCRIPTION:This is a celebration of creative people showing what they do!  There will be designers and creators of all types here\, so come by and see what’s going on!
URL:https://bsgames.ca/event/mississauga-makerfest/
LOCATION:Mississauga Central Library\, 301 Burnhamthorpe Rd. W\, Mississauga\, ON\, Canada
END:VEVENT
BEGIN:VEVENT
DTSTART;TZID=America/Toronto:20190525T100000
DTEND;TZID=America/Toronto:20190526T180000
DTSTAMP:20260425T062816
CREATED:20190406T184522Z
LAST-MODIFIED:20190421T023427Z
UID:1307-1558778400-1558893600@bsgames.ca
SUMMARY:Protospiel North
DESCRIPTION:A convention for game designers in Toronto! On May 25th and 26th\, you can bring your game and get some playtesting\, or if you aren’t a designer\, you can come and play some games in development and provide some valuable feedback! \nWe’ll be there on the Sunday\, so stop by and see us. You could also go on Saturday as well and check out all the other games there. \nYou can get passes here. \nAlso\, you can follow them on Facebook for updates and more information.
URL:https://bsgames.ca/event/protospiel-north/
END:VEVENT
BEGIN:VEVENT
DTSTART;TZID=America/Toronto:20190513T190000
DTEND;TZID=America/Toronto:20190513T230000
DTSTAMP:20260425T062816
CREATED:20190505T211305Z
LAST-MODIFIED:20190505T211305Z
UID:1335-1557774000-1557788400@bsgames.ca
SUMMARY:Snakes and Lattes Designer Night!
DESCRIPTION:We’ve been away and busy for a while\, but we’re heading back to Snakes and Lattes on College for Designer Night! \nWe’ll be showing some things that we’re working on to gt feedback\, and we’ll be trying out other designers’ games to help them out as well! \nThe people are cool\, the food is great and the games are in development. \nJoin us!
URL:https://bsgames.ca/event/snakes-and-lattes-designer-night/
LOCATION:Snakes & Lattes\, 489 College St\, Toronto\, Ontario\, M6G 1A5\, Canada
END:VEVENT
BEGIN:VEVENT
DTSTART;TZID=America/Toronto:20190510T183000
DTEND;TZID=America/Toronto:20190510T230000
DTSTAMP:20260425T062816
CREATED:20190429T220840Z
LAST-MODIFIED:20190429T220840Z
UID:1326-1557513000-1557529200@bsgames.ca
SUMMARY:Dicey Business
DESCRIPTION:We’re heading back to Dicey Business to play some games! If the new Mathemagician’s Duel prototype didn’t arrive last week\, we’ll do the unboxing and show it off this week! \nCome and join us for fun and food!
URL:https://bsgames.ca/event/dicey-business-2/
LOCATION:Dicey Business\, 6905 Millcreek Dr. Unit 4\, Mississauga\, Ontario\, Canada
END:VEVENT
BEGIN:VEVENT
DTSTART;TZID=America/Toronto:20190503T183000
DTEND;TZID=America/Toronto:20190503T230000
DTSTAMP:20260425T062816
CREATED:20190429T220602Z
LAST-MODIFIED:20190429T220602Z
UID:1324-1556908200-1556924400@bsgames.ca
SUMMARY:Dicey Business
DESCRIPTION:We’re heading to Dicey Business to play some games! If the new Mathemagician’s Duel prototype arrives before then\, we’ll do an unboxing and show it off! \nCome and join us for fun and food!
URL:https://bsgames.ca/event/dicey-business/
LOCATION:Dicey Business\, 6905 Millcreek Dr. Unit 4\, Mississauga\, Ontario\, Canada
END:VEVENT
BEGIN:VEVENT
DTSTART;TZID=America/Toronto:20190411T190000
DTEND;TZID=America/Toronto:20190411T230000
DTSTAMP:20260425T062816
CREATED:20190403T221248Z
LAST-MODIFIED:20190403T221248Z
UID:1299-1555009200-1555023600@bsgames.ca
SUMMARY:Games Night at 3Brewers Heartland
DESCRIPTION:Come and join us at 3Brewers for games night! Have dinner\, play games\, meet some new people. \nWe’ll have a selection of games for you to try\, and we’ll even show you how to play at your table\, if you want. \nStop by any time after 7pm on Thursday\, April 11th! \n 
URL:https://bsgames.ca/event/games-night-at-3brewers-heartland/
LOCATION:3 Brewers\, 5860 Mavis Rd.\, Mississauga\, Ontario\, L5V 3B7\, Canada
END:VEVENT
BEGIN:VEVENT
DTSTART;TZID=America/Toronto:20190315T100000
DTEND;TZID=America/Toronto:20190317T170000
DTSTAMP:20260425T062816
CREATED:20190222T232630Z
LAST-MODIFIED:20190304T034913Z
UID:1212-1552644000-1552842000@bsgames.ca
SUMMARY:Breakout Con
DESCRIPTION:A boardgaming weekend extravaganza! We can’t guarantee we’ll be thee all weekend\, but we’re trying to arrange the schedule to go. If you like playing board games\, this is the place to be!
URL:https://bsgames.ca/event/breakout-con/
END:VEVENT
BEGIN:VEVENT
DTSTART;TZID=America/Toronto:20190314T183000
DTEND;TZID=America/Toronto:20190314T230000
DTSTAMP:20260425T062816
CREATED:20190304T035210Z
LAST-MODIFIED:20190304T035210Z
UID:1223-1552588200-1552604400@bsgames.ca
SUMMARY:3Brewers March
DESCRIPTION:We’ll be hosting games at 3Brewers Heartland at Mavis on Thursday\, March 14th! \nGrab a couple of friends and come join us!
URL:https://bsgames.ca/event/3brewers-march/
LOCATION:3 Brewers\, 5860 Mavis Rd.\, Mississauga\, Ontario\, L5V 3B7\, Canada
END:VEVENT
BEGIN:VEVENT
DTSTART;TZID=America/Toronto:20190221T180000
DTEND;TZID=America/Toronto:20190221T220000
DTSTAMP:20260425T062816
CREATED:20190205T043524Z
LAST-MODIFIED:20190205T043524Z
UID:1197-1550772000-1550786400@bsgames.ca
SUMMARY:3Brewers!
DESCRIPTION:We’re back at 3Brewers! Come for dinner\, a beer\, and some games!
URL:https://bsgames.ca/event/3brewers/
LOCATION:3 Brewers\, 5860 Mavis Rd.\, Mississauga\, Ontario\, L5V 3B7\, Canada
END:VEVENT
BEGIN:VEVENT
DTSTART;TZID=America/Toronto:20190213T190000
DTEND;TZID=America/Toronto:20190213T220000
DTSTAMP:20260425T062816
CREATED:20190205T043422Z
LAST-MODIFIED:20190205T043422Z
UID:1195-1550084400-1550095200@bsgames.ca
SUMMARY:At Dicey Business with Joe!
DESCRIPTION:We’ll be at Dicey Business\, and our friend\, and full-time game designer\, Joe Slack!
URL:https://bsgames.ca/event/at-dicey-business-with-joe/
LOCATION:Dicey Business\, 6905 Millcreek Dr. Unit 4\, Mississauga\, Ontario\, Canada
END:VEVENT
BEGIN:VEVENT
DTSTART;TZID=America/Toronto:20190125T190000
DTEND;TZID=America/Toronto:20190125T233000
DTSTAMP:20260425T062816
CREATED:20190116T230924Z
LAST-MODIFIED:20190116T230924Z
UID:1168-1548442800-1548459000@bsgames.ca
SUMMARY:Hang out for games at Dicey Business
DESCRIPTION:Come and join us at Dicey Business on Friday\, January 25th. We’ll start at around 7pm\, but you can drop in anytime in the evening; we’ll be staying late! \nThey only charge $4 for unlimited gaming\, and their food is quite good! \nYou can join us for a game\, hear about our new ideas\, or try out some of the games we’re working on.
URL:https://bsgames.ca/event/hang-out-for-games-at-dicey-business/
LOCATION:Dicey Business\, 6905 Millcreek Dr. Unit 4\, Mississauga\, Ontario\, Canada
END:VEVENT
BEGIN:VEVENT
DTSTART;TZID=America/Toronto:20181116T180000
DTEND;TZID=America/Toronto:20181116T233000
DTSTAMP:20260425T062816
CREATED:20181105T222451Z
LAST-MODIFIED:20181105T222451Z
UID:1109-1542391200-1542411000@bsgames.ca
SUMMARY:Get-together at Dicey Business
DESCRIPTION:Come and join us at the friendliest game café\, Dicey Business! We can play games and hang out!
URL:https://bsgames.ca/event/get-together-at-dicey-business/
LOCATION:Dicey Business\, 6905 Millcreek Dr. Unit 4\, Mississauga\, Ontario\, Canada
END:VEVENT
BEGIN:VEVENT
DTSTART;TZID=America/Toronto:20181108T180000
DTEND;TZID=America/Toronto:20181108T220000
DTSTAMP:20260425T062816
CREATED:20181012T222831Z
LAST-MODIFIED:20181012T222831Z
UID:1046-1541700000-1541714400@bsgames.ca
SUMMARY:Games Night at 3 Brewers Heartland!
DESCRIPTION:Join us for games and fun\, and I guess\, well.. they sell beer. You could also have some of that.
URL:https://bsgames.ca/event/games-night-at-3-brewers-heartland-2/
LOCATION:3 Brewers\, 5860 Mavis Rd.\, Mississauga\, Ontario\, L5V 3B7\, Canada
END:VEVENT
BEGIN:VEVENT
DTSTART;TZID=America/Toronto:20181019T180000
DTEND;TZID=America/Toronto:20181019T233000
DTSTAMP:20260425T062816
CREATED:20181012T222717Z
LAST-MODIFIED:20181012T222717Z
UID:1044-1539972000-1539991800@bsgames.ca
SUMMARY:Games Night at Dicey Business
DESCRIPTION:Join us after 6pm at Dicey Business to hang out and play some games!
URL:https://bsgames.ca/event/games-night-at-dicey-business/
LOCATION:Dicey Business\, 6905 Millcreek Dr. Unit 4\, Mississauga\, Ontario\, Canada
END:VEVENT
BEGIN:VEVENT
DTSTART;TZID=America/Toronto:20181013T080000
DTEND;TZID=America/Toronto:20181014T220000
DTSTAMP:20260425T062816
CREATED:20180826T150603Z
LAST-MODIFIED:20180826T150603Z
UID:617-1539417600-1539554400@bsgames.ca
SUMMARY:Skycon Gaming convention
DESCRIPTION:A weekend gaming event in Kitchener! As well as all the other great gaming happening\, BSGames will be there testing and demonstrating games.
URL:https://bsgames.ca/event/skycon-gaming-convention/
LOCATION:Holiday Inn\, 30 Fairway Dr. S\, Kitchener\, Ontario\, Canada
END:VEVENT
BEGIN:VEVENT
DTSTART;TZID=America/Toronto:20181011T180000
DTEND;TZID=America/Toronto:20181011T220000
DTSTAMP:20260425T062816
CREATED:20181009T220207Z
LAST-MODIFIED:20181009T220207Z
UID:1038-1539280800-1539295200@bsgames.ca
SUMMARY:Games Night at 3 Brewers Heartland
DESCRIPTION:We’ll be hosting and teaching games at the 3 Brewers location in the Heartland Centre on Mavis rd.
URL:https://bsgames.ca/event/games-night-at-3-brewers-heartland/
LOCATION:3 Brewers\, 5860 Mavis Rd.\, Mississauga\, Ontario\, L5V 3B7\, Canada
END:VEVENT
BEGIN:VEVENT
DTSTART;TZID=America/Toronto:20181009T190000
DTEND;TZID=America/Toronto:20181009T233000
DTSTAMP:20260425T062816
CREATED:20181003T025451Z
LAST-MODIFIED:20181003T025451Z
UID:1017-1539111600-1539127800@bsgames.ca
SUMMARY:Tank Brawl at Dicey Business
DESCRIPTION:David Gonsalves of Fantasy Realm Games will be at Dicey Business to play his new game “Tank Brawl”. It hasn’t been released yet\, so you have an opportunity to offer your input before the final version is complete.
URL:https://bsgames.ca/event/tank-brawl-at-dicey-business/
LOCATION:Dicey Business\, 6905 Millcreek Dr. Unit 4\, Mississauga\, Ontario\, Canada
END:VEVENT
END:VCALENDAR