BEGIN:VCALENDAR
VERSION:2.0
PRODID:-//BSGames - ECPv6.15.20//NONSGML v1.0//EN
CALSCALE:GREGORIAN
METHOD:PUBLISH
X-WR-CALNAME:BSGames
X-ORIGINAL-URL:https://bsgames.ca
X-WR-CALDESC:Events for BSGames
REFRESH-INTERVAL;VALUE=DURATION:PT1H
X-Robots-Tag:noindex
X-PUBLISHED-TTL:PT1H
BEGIN:VTIMEZONE
TZID:America/Toronto
BEGIN:DAYLIGHT
TZOFFSETFROM:-0500
TZOFFSETTO:-0400
TZNAME:EDT
DTSTART:20250309T070000
END:DAYLIGHT
BEGIN:STANDARD
TZOFFSETFROM:-0400
TZOFFSETTO:-0500
TZNAME:EST
DTSTART:20251102T060000
END:STANDARD
BEGIN:DAYLIGHT
TZOFFSETFROM:-0500
TZOFFSETTO:-0400
TZNAME:EDT
DTSTART:20260308T070000
END:DAYLIGHT
BEGIN:STANDARD
TZOFFSETFROM:-0400
TZOFFSETTO:-0500
TZNAME:EST
DTSTART:20261101T060000
END:STANDARD
BEGIN:DAYLIGHT
TZOFFSETFROM:-0500
TZOFFSETTO:-0400
TZNAME:EDT
DTSTART:20270314T070000
END:DAYLIGHT
BEGIN:STANDARD
TZOFFSETFROM:-0400
TZOFFSETTO:-0500
TZNAME:EST
DTSTART:20271107T060000
END:STANDARD
END:VTIMEZONE
BEGIN:VEVENT
DTSTART;TZID=America/Toronto:20260221T100000
DTEND;TZID=America/Toronto:20260221T160000
DTSTAMP:20260425T063603
CREATED:20260207T163039Z
LAST-MODIFIED:20260207T163042Z
UID:300512-1771668000-1771689600@bsgames.ca
SUMMARY:Kids Adventure Expo
DESCRIPTION:An amazing day out for the family! Kids Adventure Expo has not only amazing local vendors\, but so many activities for the kids to do! There will be live entertainment\, a bouncy castle\, games\, and hands-on workshops. And it’s free to get in!We’ll be there showing families how to play Mathemagician’s Duel and Sinoda.Come to the Woodman Park Community Centre in Brantford to check it out!
URL:https://bsgames.ca/event/kids-adventure-expo/
LOCATION:Woodman Park Community Centre\, 491 Grey St\, Brantford\, ON\, Canada
ATTACH;FMTTYPE=image/png:https://bsgames.ca/wp-content/uploads/2026/02/Kids-Adventure-Expo-1.png
END:VEVENT
END:VCALENDAR